Workbook

Sheet Player Prop Tool
C2: Prop | D2: Sean % | F2: Book | H2: Implied | J2: Edge | O2: Prop | P2: Sean % | R2: Book | T2: Implied | V2: Edge | AA2: Prop | AB2: Sean % | AD2: Book | AF2: Implied | AH2: Edge
B3: Player | C3: Pass Yds | D3: Over | E3: Under | F3: Over | G3: Under | H3: Over | I3: Under | J3: Over | K3: Under | N3: Player | O3: Pass Yds | P3: Over | Q3: Under | R3: Over | S3: Under | T3: Over | U3: Under | V3: Over | W3: Under | Z3: Player | AA3: Rec Yds | AB3: Over | AC3: Under | AD3: Over | AE3: Under | AF3: Over | AG3: Under | AH3: Over | AI3: Under
B4: Patrick Mahomes | C4: 302.5 | D4: =1-E4 -> 0.501 | E4: =VLOOKUP(C4,Data!$B$4:$BM$1430,2,0) -> 0.499 | F4: -112 | G4: -112 | H4: =IF(F4<0,-F4/(-F4+100),100/(F4+100)) -> 0.52830189 | I4: =IF(G4<0,-G4/(-G4+100),100/(G4+100)) -> 0.52830189 | J4: =D4-H4 -> -0.027301887 | K4: =E4-I4 -> -0.029301887 | N4: Jimmy Garoppolo | O4: 239.5 | P4: =1-Q4 -> 0.4898 | Q4: =VLOOKUP(O4,Data!$B$4:$BM$1430,3,0) -> 0.5102 | R4: -112 | S4: -112 | T4: =IF(R4<0,-R4/(-R4+100),100/(R4+100)) -> 0.52830189 | U4: =IF(S4<0,-S4/(-S4+100),100/(S4+100)) -> 0.52830189 | V4: =P4-T4 -> -0.038501887 | W4: =Q4-U4 -> -0.018101887 | Z4: Total TD Yardage | AA4: 102.5 | AB4: =1-AC4 -> 0.5588 | AC4: =VLOOKUP(AA4,Data!$B$4:$BM$1430,45,0) -> 0.4412 | AD4: -115 | AE4: -115 | AF4: =IF(AD4<0,-AD4/(-AD4+100),100/(AD4+100)) -> 0.53488372 | AG4: =IF(AE4<0,-AE4/(-AE4+100),100/(AE4+100)) -> 0.53488372 | AH4: =AB4-AF4 -> 0.023916279 | AI4: =AC4-AG4 -> -0.093683721
C6: Prop | D6: Sean % | F6: Book | H6: Implied | J6: Edge | O6: Prop | P6: Sean % | R6: Book | T6: Implied | V6: Edge
B7: Player | C7: Pass Att | D7: Over | E7: Under | F7: Over | G7: Under | H7: Over | I7: Under | J7: Over | K7: Under | N7: Player | O7: Pass Att | P7: Over | Q7: Under | R7: Over | S7: Under | T7: Over | U7: Under | V7: Over | W7: Under
B8: Patrick Mahomes | C8: 35.5 | D8: =1-E8 -> 0.51552408 | E8: =VLOOKUP(C8,Data!$B$4:$BM$1430,8,0) -> 0.48447592 | F8: -112 | G8: -112 | H8: =IF(F8<0,-F8/(-F8+100),100/(F8+100)) -> 0.52830189 | I8: =IF(G8<0,-G8/(-G8+100),100/(G8+100)) -> 0.52830189 | J8: =D8-H8 -> -0.012777807 | K8: =E8-I8 -> -0.043825967 | N8: Jimmy Garoppolo | O8: 29.5 | P8: =1-Q8 -> 0.502394 | Q8: =VLOOKUP(O8,Data!$B$4:$BM$1430,9,0) -> 0.497606 | R8: -112 | S8: -112 | T8: =IF(R8<0,-R8/(-R8+100),100/(R8+100)) -> 0.52830189 | U8: =IF(S8<0,-S8/(-S8+100),100/(S8+100)) -> 0.52830189 | V8: =P8-T8 -> -0.025907887 | W8: =Q8-U8 -> -0.030695887
C10: Prop | D10: Sean % | F10: Book | H10: Implied | J10: Edge | O10: Prop | P10: Sean % | R10: Book | T10: Implied | V10: Edge
B11: Player | C11: Pass Comp | D11: Over | E11: Under | F11: Over | G11: Under | H11: Over | I11: Under | J11: Over | K11: Under | N11: Player | O11: Pass Comp | P11: Over | Q11: Under | R11: Over | S11: Under | T11: Over | U11: Under | V11: Over | W11: Under
B12: Patrick Mahomes | C12: 23.5 | D12: =1-E12 -> 0.5672406 | E12: =VLOOKUP(C12,Data!$B$4:$BM$1430,10,0) -> 0.4327594 | F12: -125 | G12: -105 | H12: =IF(F12<0,-F12/(-F12+100),100/(F12+100)) -> 0.55555556 | I12: =IF(G12<0,-G12/(-G12+100),100/(G12+100)) -> 0.51219512 | J12: =D12-H12 -> 0.011685048 | K12: =E12-I12 -> -0.079435726 | N12: Jimmy Garoppolo | O12: 19.5 | P12: =1-Q12 -> 0.46670815 | Q12: =VLOOKUP(O12,Data!$B$4:$BM$1430,11,0) -> 0.53329185 | R12: 102 | S12: -130 | T12: =IF(R12<0,-R12/(-R12+100),100/(R12+100)) -> 0.4950495 | U12: =IF(S12<0,-S12/(-S12+100),100/(S12+100)) -> 0.56521739 | V12: =P12-T12 -> -0.028341353 | W12: =Q12-U12 -> -0.031925544
C14: Prop | D14: Sean % | F14: Book | H14: Implied | J14: Edge | O14: Prop | P14: Sean % | R14: Book | T14: Implied | V14: Edge
B15: Player | C15: Pass TD | D15: Over | E15: Under | F15: Over | G15: Under | H15: Over | I15: Under | J15: Over | K15: Under | N15: Player | O15: Pass TD | P15: Over | Q15: Under | R15: Over | S15: Under | T15: Over | U15: Under | V15: Over | W15: Under
B16: Patrick Mahomes | C16: 2.5 | D16: =1-E16 -> 0.40925782 | E16: =VLOOKUP(C16,Data!$B$4:$BM$1430,13,0) -> 0.59074218 | F16: -235 | G16: 180 | H16: =IF(F16<0,-F16/(-F16+100),100/(F16+100)) -> 0.70149254 | I16: =IF(G16<0,-G16/(-G16+100),100/(G16+100)) -> 0.35714286 | J16: =D16-H16 -> -0.29223472 | K16: =E16-I16 -> 0.23359932 | N16: Jimmy Garoppolo | O16: 1.5 | P16: =1-Q16 -> 0.50675449 | Q16: =VLOOKUP(O16,Data!$B$4:$BM$1430,12,0) -> 0.49324551 | R16: -112 | S16: -112 | T16: =IF(R16<0,-R16/(-R16+100),100/(R16+100)) -> 0.52830189 | U16: =IF(S16<0,-S16/(-S16+100),100/(S16+100)) -> 0.52830189 | V16: =P16-T16 -> -0.021547402 | W16: =Q16-U16 -> -0.035056372
C18: Prop | D18: Sean % | F18: Book | H18: Implied | J18: Edge | O18: Prop | P18: Sean % | R18: Book | T18: Implied | V18: Edge
B19: Player | C19: Rush yds | D19: Over | E19: Under | F19: Over | G19: Under | H19: Over | I19: Under | J19: Over | K19: Under | N19: Player | O19: Rush yds | P19: Over | Q19: Under | R19: Over | S19: Under | T19: Over | U19: Under | V19: Over | W19: Under
B20: Patrick Mahomes | C20: 30.5 | D20: =1-E20 -> 0.3984 | E20: =VLOOKUP(C20,Data!$B$4:$BM$1430,15,0) -> 0.6016 | F20: -149 | G20: 110 | H20: =IF(F20<0,-F20/(-F20+100),100/(F20+100)) -> 0.59839357 | I20: =IF(G20<0,-G20/(-G20+100),100/(G20+100)) -> 0.47619048 | J20: =D20-H20 -> -0.19999357 | K20: =E20-I20 -> 0.12540952 | N20: Jimmy Garoppolo | O20: 4.5 | P20: =1-Q20 -> 0.4436 | Q20: =VLOOKUP(O20,Data!$B$4:$BM$1430,14,0) -> 0.5564 | R20: -112 | S20: -112 | T20: =IF(R20<0,-R20/(-R20+100),100/(R20+100)) -> 0.52830189 | U20: =IF(S20<0,-S20/(-S20+100),100/(S20+100)) -> 0.52830189 | V20: =P20-T20 -> -0.084701887 | W20: =Q20-U20 -> 0.028098113
C22: Prop | D22: Sean % | F22: Book | H22: Implied | J22: Edge | O22: Prop | P22: Sean % | R22: Book | T22: Implied | V22: Edge
B23: Player | C23: Rush Att | D23: Over | E23: Under | F23: Over | G23: Under | H23: Over | I23: Under | J23: Over | K23: Under | N23: Player | O23: Rush Att | P23: Over | Q23: Under | R23: Over | S23: Under | T23: Over | U23: Under | V23: Over | W23: Under
B24: Damien Williams | C24: 12.5 | D24: =1-E24 -> 0.64134158 | E24: =VLOOKUP(C24,Data!$B$4:$BM$1430,4,0) -> 0.35865842 | F24: -126 | G24: -102 | H24: =IF(F24<0,-F24/(-F24+100),100/(F24+100)) -> 0.55752212 | I24: =IF(G24<0,-G24/(-G24+100),100/(G24+100)) -> 0.5049505 | J24: =D24-H24 -> 0.083819459 | K24: =E24-I24 -> -0.14629208 | N24: Raheem Mostert | O24: 15.5 | P24: =1-Q24 -> 0.54314496 | Q24: =VLOOKUP(O24,Data!$B$4:$BM$1430,48,0) -> 0.45685504 | R24: -118 | S24: -108 | T24: =IF(R24<0,-R24/(-R24+100),100/(R24+100)) -> 0.5412844 | U24: =IF(S24<0,-S24/(-S24+100),100/(S24+100)) -> 0.51923077 | V24: =P24-T24 -> 0.0018605558 | W24: =Q24-U24 -> -0.062375729
C26: Prop | D26: Sean % | F26: Book | H26: Implied | J26: Edge | O26: Prop | P26: Sean % | R26: Book | T26: Implied | V26: Edge
B27: Player | C27: 1st Rush | D27: Over | E27: Under | F27: Over | G27: Under | H27: Over | I27: Under | J27: Over | K27: Under | N27: Player | O27: 1st Rush | P27: Over | Q27: Under | R27: Over | S27: Under | T27: Over | U27: Under | V27: Over | W27: Under
B28: Damien Williams | C28: 3.5 | D28: =1-E28 -> 0.414 | E28: =VLOOKUP(C28,Data!$B$4:$BM$1430,5,0) -> 0.586 | F28: 115 | G28: -143 | H28: =IF(F28<0,-F28/(-F28+100),100/(F28+100)) -> 0.46511628 | I28: =IF(G28<0,-G28/(-G28+100),100/(G28+100)) -> 0.58847737 | J28: =D28-H28 -> -0.051116279 | K28: =E28-I28 -> -0.0024773663 | N28: Raheem Mostert | O28: 3.5 | P28: =1-Q28 -> 0.4304 | Q28: =VLOOKUP(O28,Data!$B$4:$BM$1430,49,0) -> 0.5696 | R28: -139 | S28: 112 | T28: =IF(R28<0,-R28/(-R28+100),100/(R28+100)) -> 0.58158996 | U28: =IF(S28<0,-S28/(-S28+100),100/(S28+100)) -> 0.47169811 | V28: =P28-T28 -> -0.15118996 | W28: =Q28-U28 -> 0.097901887
C30: Prop | D30: Sean % | F30: Book | H30: Implied | J30: Edge | O30: Prop | P30: Sean % | R30: Book | T30: Implied | V30: Edge
B31: Player | C31: Long run | D31: Over | E31: Under | F31: Over | G31: Under | H31: Over | I31: Under | J31: Over | K31: Under | N31: Player | O31: Long run | P31: Over | Q31: Under | R31: Over | S31: Under | T31: Over | U31: Under | V31: Over | W31: Under | Z31: =1.9*7.8 -> 14.82
B32: Damien Williams | C32: 13.5 | D32: =1-E32 -> 0.4944 | E32: =VLOOKUP(C32,Data!$B$4:$BM$1430,6,0) -> 0.5056 | F32: -112 | G32: -112 | H32: =IF(F32<0,-F32/(-F32+100),100/(F32+100)) -> 0.52830189 | I32: =IF(G32<0,-G32/(-G32+100),100/(G32+100)) -> 0.52830189 | J32: =D32-H32 -> -0.033901887 | K32: =E32-I32 -> -0.022701887 | N32: Raheem Mostert | O32: 18.5 | P32: =1-Q32 -> 0.5136 | Q32: =VLOOKUP(O32,Data!$B$4:$BM$1430,50,0) -> 0.4864 | R32: -112 | S32: -112 | T32: =IF(R32<0,-R32/(-R32+100),100/(R32+100)) -> 0.52830189 | U32: =IF(S32<0,-S32/(-S32+100),100/(S32+100)) -> 0.52830189 | V32: =P32-T32 -> -0.014701887 | W32: =Q32-U32 -> -0.041901887
C34: Prop | D34: Sean % | F34: Book | H34: Implied | J34: Edge | O34: Prop | P34: Sean % | R34: Book | T34: Implied | V34: Edge
B35: Player | C35: Rush yds | D35: Over | E35: Under | F35: Over | G35: Under | H35: Over | I35: Under | J35: Over | K35: Under | N35: Player | O35: Rush yds | P35: Over | Q35: Under | R35: Over | S35: Under | T35: Over | U35: Under | V35: Over | W35: Under
B36: Damien Williams | C36: 50.5 | D36: =1-E36 -> 0.4984 | E36: =VLOOKUP(C36,Data!$B$4:$BM$1430,7,0) -> 0.5016 | F36: -112 | G36: -112 | H36: =IF(F36<0,-F36/(-F36+100),100/(F36+100)) -> 0.52830189 | I36: =IF(G36<0,-G36/(-G36+100),100/(G36+100)) -> 0.52830189 | J36: =D36-H36 -> -0.029901887 | K36: =E36-I36 -> -0.026701887 | N36: Raheem Mostert | O36: 77.5 | P36: =1-Q36 -> 0.4122 | Q36: =VLOOKUP(O36,Data!$B$4:$BM$1430,47,0) -> 0.5878 | R36: -102 | S36: -124 | T36: =IF(R36<0,-R36/(-R36+100),100/(R36+100)) -> 0.5049505 | U36: =IF(S36<0,-S36/(-S36+100),100/(S36+100)) -> 0.55357143 | V36: =P36-T36 -> -0.092750495 | W36: =Q36-U36 -> 0.034228571
C38: Prop | D38: Sean % | F38: Book | H38: Implied | J38: Edge | O38: Prop | P38: Sean % | R38: Book | T38: Implied | V38: Edge
B39: Player | C39: Rec | D39: Over | E39: Under | F39: Over | G39: Under | H39: Over | I39: Under | J39: Over | K39: Under | N39: Player | O39: Rec | P39: Over | Q39: Under | R39: Over | S39: Under | T39: Over | U39: Under | V39: Over | W39: Under
B40: Damien Williams | C40: 3.5 | D40: =1-E40 -> 0.53669004 | E40: =VLOOKUP(C40,Data!$B$4:$BM$1430,17,0) -> 0.46330996 | F40: -112 | G40: -112 | H40: =IF(F40<0,-F40/(-F40+100),100/(F40+100)) -> 0.52830189 | I40: =IF(G40<0,-G40/(-G40+100),100/(G40+100)) -> 0.52830189 | J40: =D40-H40 -> 0.0083881549 | K40: =E40-I40 -> -0.064991928 | N40: Raheem Mostert | O40: 1.5 | P40: =1-Q40 -> 0.55477628 | Q40: =VLOOKUP(O40,Data!$B$4:$BM$1430,51,0) -> 0.44522372 | R40: -134 | S40: 104 | T40: =IF(R40<0,-R40/(-R40+100),100/(R40+100)) -> 0.57264957 | U40: =IF(S40<0,-S40/(-S40+100),100/(S40+100)) -> 0.49019608 | V40: =P40-T40 -> -0.017873296 | W40: =Q40-U40 -> -0.044972356
C42: Prop | D42: Sean % | F42: Book | H42: Implied | J42: Edge | O42: Prop | P42: Sean % | R42: Book | T42: Implied | V42: Edge
B43: Player | C43: Rec Yds | D43: Over | E43: Under | F43: Over | G43: Under | H43: Over | I43: Under | J43: Over | K43: Under | N43: Player | O43: Rec Yds | P43: Over | Q43: Under | R43: Over | S43: Under | T43: Over | U43: Under | V43: Over | W43: Under
B44: Damien Williams | C44: 28.5 | D44: =1-E44 -> 0.4452 | E44: =VLOOKUP(C44,Data!$B$4:$BM$1430,16,0) -> 0.5548 | F44: -112 | G44: -112 | H44: =IF(F44<0,-F44/(-F44+100),100/(F44+100)) -> 0.52830189 | I44: =IF(G44<0,-G44/(-G44+100),100/(G44+100)) -> 0.52830189 | J44: =D44-H44 -> -0.083101887 | K44: =E44-I44 -> 0.026498113 | N44: Raheem Mostert | O44: 10.5 | P44: =1-Q44 -> 0.3658 | Q44: =VLOOKUP(O44,Data!$B$4:$BM$1430,52,0) -> 0.6342 | R44: -112 | S44: -112 | T44: =IF(R44<0,-R44/(-R44+100),100/(R44+100)) -> 0.52830189 | U44: =IF(S44<0,-S44/(-S44+100),100/(S44+100)) -> 0.52830189 | V44: =P44-T44 -> -0.16250189 | W44: =Q44-U44 -> 0.10589811
C46: Prop | D46: Sean % | F46: Book | H46: Implied | J46: Edge | O46: Prop | P46: Sean % | R46: Book | T46: Implied | V46: Edge
B47: Player | C47: Long Rec | D47: Over | E47: Under | F47: Over | G47: Under | H47: Over | I47: Under | J47: Over | K47: Under | N47: Player | O47: Rec | P47: Over | Q47: Under | R47: Over | S47: Under | T47: Over | U47: Under | V47: Over | W47: Under
B48: Damien Williams | C48: 13.5 | D48: =1-E48 -> 0.4458 | E48: =VLOOKUP(C48,Data!$B$4:$BM$1430,18,0) -> 0.5542 | F48: -126 | G48: -102 | H48: =IF(F48<0,-F48/(-F48+100),100/(F48+100)) -> 0.55752212 | I48: =IF(G48<0,-G48/(-G48+100),100/(G48+100)) -> 0.5049505 | J48: =D48-H48 -> -0.11172212 | K48: =E48-I48 -> 0.049249505 | N48: Deebo Samuel | O48: 4.5 | P48: =1-Q48 -> 0.42569357 | Q48: =VLOOKUP(O48,Data!$B$4:$BM$1430,26,0) -> 0.57430643 | R48: -112 | S48: -112 | T48: =IF(R48<0,-R48/(-R48+100),100/(R48+100)) -> 0.52830189 | U48: =IF(S48<0,-S48/(-S48+100),100/(S48+100)) -> 0.52830189 | V48: =P48-T48 -> -0.10260832 | W48: =Q48-U48 -> 0.046004546
C50: Prop | D50: Sean % | F50: Book | H50: Implied | J50: Edge | O50: Prop | P50: Sean % | R50: Book | T50: Implied | V50: Edge
B51: Player | C51: Rec | D51: Over | E51: Under | F51: Over | G51: Under | H51: Over | I51: Under | J51: Over | K51: Under | N51: Player | O51: Rec Yds | P51: Over | Q51: Under | R51: Over | S51: Under | T51: Over | U51: Under | V51: Over | W51: Under
B52: Tyreek Hill | C52: 5.5 | D52: =1-E52 -> 0.43652661 | E52: =VLOOKUP(C52,Data!$B$4:$BM$1430,20,0) -> 0.56347339 | F52: -112 | G52: -112 | H52: =IF(F52<0,-F52/(-F52+100),100/(F52+100)) -> 0.52830189 | I52: =IF(G52<0,-G52/(-G52+100),100/(G52+100)) -> 0.52830189 | J52: =D52-H52 -> -0.091775279 | K52: =E52-I52 -> 0.035171505 | N52: Deebo Samuel | O52: 54.5 | P52: =1-Q52 -> 0.4704 | Q52: =VLOOKUP(O52,Data!$B$4:$BM$1430,25,0) -> 0.5296 | R52: -112 | S52: -112 | T52: =IF(R52<0,-R52/(-R52+100),100/(R52+100)) -> 0.52830189 | U52: =IF(S52<0,-S52/(-S52+100),100/(S52+100)) -> 0.52830189 | V52: =P52-T52 -> -0.057901887 | W52: =Q52-U52 -> 0.0012981132
C54: Prop | D54: Sean % | F54: Book | H54: Implied | J54: Edge | O54: Prop | P54: Sean % | R54: Book | T54: Implied | V54: Edge
B55: Player | C55: Rec Yds | D55: Over | E55: Under | F55: Over | G55: Under | H55: Over | I55: Under | J55: Over | K55: Under | N55: Player | O55: Long Rec | P55: Over | Q55: Under | R55: Over | S55: Under | T55: Over | U55: Under | V55: Over | W55: Under
B56: Tyreek Hill | C56: 76.5 | D56: =1-E56 -> 0.457 | E56: =VLOOKUP(C56,Data!$B$4:$BM$1430,19,0) -> 0.543 | F56: -112 | G56: -112 | H56: =IF(F56<0,-F56/(-F56+100),100/(F56+100)) -> 0.52830189 | I56: =IF(G56<0,-G56/(-G56+100),100/(G56+100)) -> 0.52830189 | J56: =D56-H56 -> -0.071301887 | K56: =E56-I56 -> 0.014698113 | N56: Deebo Samuel | O56: 24.5 | P56: =1-Q56 -> 0.3952 | Q56: =VLOOKUP(O56,Data!$B$4:$BM$1430,27,0) -> 0.6048 | R56: -112 | S56: -112 | T56: =IF(R56<0,-R56/(-R56+100),100/(R56+100)) -> 0.52830189 | U56: =IF(S56<0,-S56/(-S56+100),100/(S56+100)) -> 0.52830189 | V56: =P56-T56 -> -0.13310189 | W56: =Q56-U56 -> 0.076498113
C58: Prop | D58: Sean % | F58: Book | H58: Implied | J58: Edge | O58: Prop | P58: Sean % | R58: Book | T58: Implied | V58: Edge
B59: Player | C59: Long Rec | D59: Over | E59: Under | F59: Over | G59: Under | H59: Over | I59: Under | J59: Over | K59: Under | N59: Player | O59: Rec | P59: Over | Q59: Under | R59: Over | S59: Under | T59: Over | U59: Under | V59: Over | W59: Under
B60: Tyreek Hill | C60: 27.5 | D60: =1-E60 -> 0.4556 | E60: =VLOOKUP(C60,Data!$B$4:$BM$1430,21,0) -> 0.5444 | F60: -108 | G60: -118 | H60: =IF(F60<0,-F60/(-F60+100),100/(F60+100)) -> 0.51923077 | I60: =IF(G60<0,-G60/(-G60+100),100/(G60+100)) -> 0.5412844 | J60: =D60-H60 -> -0.063630769 | K60: =E60-I60 -> 0.0031155963 | N60: Emmanuel Sanders | O60: 3.5 | P60: =1-Q60 -> 0.46552364 | Q60: =VLOOKUP(O60,Data!$B$4:$BM$1430,29,0) -> 0.53447636 | R60: -126 | S60: -106 | T60: =IF(R60<0,-R60/(-R60+100),100/(R60+100)) -> 0.55752212 | U60: =IF(S60<0,-S60/(-S60+100),100/(S60+100)) -> 0.51456311 | V60: =P60-T60 -> -0.091998486 | W60: =Q60-U60 -> 0.019913256
C62: Prop | D62: Sean % | F62: Book | H62: Implied | J62: Edge | O62: Prop | P62: Sean % | R62: Book | T62: Implied | V62: Edge
B63: Player | C63: Rec | D63: Over | E63: Under | F63: Over | G63: Under | H63: Over | I63: Under | J63: Over | K63: Under | N63: Player | O63: Rec Yds | P63: Over | Q63: Under | R63: Over | S63: Under | T63: Over | U63: Under | V63: Over | W63: Under
B64: Sammy Watkins | C64: 3.5 | D64: =1-E64 -> 0.52855888 | E64: =VLOOKUP(C64,Data!$B$4:$BM$1430,23,0) -> 0.47144112 | F64: -126 | G64: -106 | H64: =IF(F64<0,-F64/(-F64+100),100/(F64+100)) -> 0.55752212 | I64: =IF(G64<0,-G64/(-G64+100),100/(G64+100)) -> 0.51456311 | J64: =D64-H64 -> -0.028963245 | K64: =E64-I64 -> -0.043121986 | N64: Emmanuel Sanders | O64: 41.5 | P64: =1-Q64 -> 0.4684 | Q64: =VLOOKUP(O64,Data!$B$4:$BM$1430,28,0) -> 0.5316 | R64: -112 | S64: -112 | T64: =IF(R64<0,-R64/(-R64+100),100/(R64+100)) -> 0.52830189 | U64: =IF(S64<0,-S64/(-S64+100),100/(S64+100)) -> 0.52830189 | V64: =P64-T64 -> -0.059901887 | W64: =Q64-U64 -> 0.0032981132
C66: Prop | D66: Sean % | F66: Book | H66: Implied | J66: Edge | O66: Prop | P66: Sean % | R66: Book | T66: Implied | V66: Edge
B67: Player | C67: Rec Yds | D67: Over | E67: Under | F67: Over | G67: Under | H67: Over | I67: Under | J67: Over | K67: Under | N67: Player | O67: Long Rec | P67: Over | Q67: Under | R67: Over | S67: Under | T67: Over | U67: Under | V67: Over | W67: Under
B68: Sammy Watkins | C68: 47.5 | D68: =1-E68 -> 0.4774 | E68: =VLOOKUP(C68,Data!$B$4:$BM$1430,22,0) -> 0.5226 | F68: -118 | G68: -108 | H68: =IF(F68<0,-F68/(-F68+100),100/(F68+100)) -> 0.5412844 | I68: =IF(G68<0,-G68/(-G68+100),100/(G68+100)) -> 0.51923077 | J68: =D68-H68 -> -0.063884404 | K68: =E68-I68 -> 0.0033692308 | N68: Emmanuel Sanders | O68: 17.5 | P68: =1-Q68 -> 0.585 | Q68: =VLOOKUP(O68,Data!$B$4:$BM$1430,30,0) -> 0.415 | R68: -108 | S68: -118 | T68: =IF(R68<0,-R68/(-R68+100),100/(R68+100)) -> 0.51923077 | U68: =IF(S68<0,-S68/(-S68+100),100/(S68+100)) -> 0.5412844 | V68: =P68-T68 -> 0.065769231 | W68: =Q68-U68 -> -0.1262844
C70: Prop | D70: Sean % | F70: Book | H70: Implied | J70: Edge | O70: Prop | P70: Sean % | R70: Book | T70: Implied | V70: Edge
B71: Player | C71: Long Rec | D71: Over | E71: Under | F71: Over | G71: Under | H71: Over | I71: Under | J71: Over | K71: Under | N71: Player | O71: Rec | P71: Over | Q71: Under | R71: Over | S71: Under | T71: Over | U71: Under | V71: Over | W71: Under
B72: Sammy Watkins | C72: 19.5 | D72: =1-E72 -> 0.5502 | E72: =VLOOKUP(C72,Data!$B$4:$BM$1430,24,0) -> 0.4498 | F72: -112 | G72: -112 | H72: =IF(F72<0,-F72/(-F72+100),100/(F72+100)) -> 0.52830189 | I72: =IF(G72<0,-G72/(-G72+100),100/(G72+100)) -> 0.52830189 | J72: =D72-H72 -> 0.021898113 | K72: =E72-I72 -> -0.078501887 | N72: George Kittle | O72: 5.5 | P72: =1-Q72 -> 0.55592525 | Q72: =VLOOKUP(O72,Data!$B$4:$BM$1430,34,0) -> 0.44407475 | R72: -164 | S72: 128 | T72: =IF(R72<0,-R72/(-R72+100),100/(R72+100)) -> 0.62121212 | U72: =IF(S72<0,-S72/(-S72+100),100/(S72+100)) -> 0.43859649 | V72: =P72-T72 -> -0.065286873 | W72: =Q72-U72 -> 0.0054782602
C74: Prop | D74: Sean % | F74: Book | H74: Implied | J74: Edge | O74: Prop | P74: Sean % | R74: Book | T74: Implied | V74: Edge
B75: Player | C75: Rec | D75: Over | E75: Under | F75: Over | G75: Under | H75: Over | I75: Under | J75: Over | K75: Under | N75: Player | O75: Rec Yds | P75: Over | Q75: Under | R75: Over | S75: Under | T75: Over | U75: Under | V75: Over | W75: Under
B76: Travis Kelce | C76: 6.5 | D76: =1-E76 -> 0.40012186 | E76: =VLOOKUP(C76,Data!$B$4:$BM$1430,31,0) -> 0.59987814 | F76: 116 | G76: -148 | H76: =IF(F76<0,-F76/(-F76+100),100/(F76+100)) -> 0.46296296 | I76: =IF(G76<0,-G76/(-G76+100),100/(G76+100)) -> 0.59677419 | J76: =D76-H76 -> -0.062841104 | K76: =E76-I76 -> 0.0031039478 | N76: George Kittle | O76: 72.5 | P76: =1-Q76 -> 0.4748 | Q76: =VLOOKUP(O76,Data!$B$4:$BM$1430,35,0) -> 0.5252 | R76: -108 | S76: -118 | T76: =IF(R76<0,-R76/(-R76+100),100/(R76+100)) -> 0.51923077 | U76: =IF(S76<0,-S76/(-S76+100),100/(S76+100)) -> 0.5412844 | V76: =P76-T76 -> -0.044430769 | W76: =Q76-U76 -> -0.016084404
C78: Prop | D78: Sean % | F78: Book | H78: Implied | J78: Edge | O78: Prop | P78: Sean % | R78: Book | T78: Implied | V78: Edge
B79: Player | C79: Rec Yds | D79: Over | E79: Under | F79: Over | G79: Under | H79: Over | I79: Under | J79: Over | K79: Under | N79: Player | O79: Long Rec | P79: Over | Q79: Under | R79: Over | S79: Under | T79: Over | U79: Under | V79: Over | W79: Under
B80: Travis Kelce | C80: 74.5 | D80: =1-E80 -> 0.4584 | E80: =VLOOKUP(C80,Data!$B$4:$BM$1430,32,0) -> 0.5416 | F80: -112 | G80: -112 | H80: =IF(F80<0,-F80/(-F80+100),100/(F80+100)) -> 0.52830189 | I80: =IF(G80<0,-G80/(-G80+100),100/(G80+100)) -> 0.52830189 | J80: =D80-H80 -> -0.069901887 | K80: =E80-I80 -> 0.013298113 | N80: George Kittle | O80: 27.5 | P80: =1-Q80 -> 0.3376 | Q80: =VLOOKUP(O80,Data!$B$4:$BM$1430,36,0) -> 0.6624 | R80: -112 | S80: -112 | T80: =IF(R80<0,-R80/(-R80+100),100/(R80+100)) -> 0.52830189 | U80: =IF(S80<0,-S80/(-S80+100),100/(S80+100)) -> 0.52830189 | V80: =P80-T80 -> -0.19070189 | W80: =Q80-U80 -> 0.13409811
C82: Prop | D82: Sean % | F82: Book | H82: Implied | J82: Edge | O82: Prop | P82: Sean % | R82: Book | T82: Implied | V82: Edge
B83: Player | C83: Long Rec | D83: Over | E83: Under | F83: Over | G83: Under | H83: Over | I83: Under | J83: Over | K83: Under | N83: Player | O83: Rec | P83: Over | Q83: Under | R83: Over | S83: Under | T83: Over | U83: Under | V83: Over | W83: Under
B84: Travis Kelce | C84: 21.5 | D84: =1-E84 -> 0.541 | E84: =VLOOKUP(C84,Data!$B$4:$BM$1430,33,0) -> 0.459 | F84: -108 | G84: -118 | H84: =IF(F84<0,-F84/(-F84+100),100/(F84+100)) -> 0.51923077 | I84: =IF(G84<0,-G84/(-G84+100),100/(G84+100)) -> 0.5412844 | J84: =D84-H84 -> 0.021769231 | K84: =E84-I84 -> -0.082284404 | N84: Kendrick Bourne | O84: 2.5 | P84: =1-Q84 -> 0.3314431 | Q84: =VLOOKUP(O84,Data!$B$4:$BM$1430,40,0) -> 0.6685569 | R84: 125 | S84: -175 | T84: =IF(R84<0,-R84/(-R84+100),100/(R84+100)) -> 0.44444444 | U84: =IF(S84<0,-S84/(-S84+100),100/(S84+100)) -> 0.63636364 | V84: =P84-T84 -> -0.11300135 | W84: =Q84-U84 -> 0.032193267
C86: Prop | D86: Sean % | F86: Book | H86: Implied | J86: Edge | O86: Prop | P86: Sean % | R86: Book | T86: Implied | V86: Edge
B87: Player | C87: Rec | D87: Over | E87: Under | F87: Over | G87: Under | H87: Over | I87: Under | J87: Over | K87: Under | N87: Player | O87: Rec Yds | P87: Over | Q87: Under | R87: Over | S87: Under | T87: Over | U87: Under | V87: Over | W87: Under
B88: Demarcus Robinson | C88: 1.5 | D88: =1-E88 -> 0.48470522 | E88: =VLOOKUP(C88,Data!$B$4:$BM$1430,38,0) -> 0.51529478 | F88: -130 | G88: 102 | H88: =IF(F88<0,-F88/(-F88+100),100/(F88+100)) -> 0.56521739 | I88: =IF(G88<0,-G88/(-G88+100),100/(G88+100)) -> 0.4950495 | J88: =D88-H88 -> -0.080512171 | K88: =E88-I88 -> 0.020245275 | N88: Kendrick Bourne | O88: 20.5 | P88: =1-Q88 -> 0.4844 | Q88: =VLOOKUP(O88,Data!$B$4:$BM$1430,39,0) -> 0.5156 | R88: -112 | S88: -112 | T88: =IF(R88<0,-R88/(-R88+100),100/(R88+100)) -> 0.52830189 | U88: =IF(S88<0,-S88/(-S88+100),100/(S88+100)) -> 0.52830189 | V88: =P88-T88 -> -0.043901887 | W88: =Q88-U88 -> -0.012701887
C90: Prop | D90: Sean % | F90: Book | H90: Implied | J90: Edge | O90: Prop | P90: Sean % | R90: Book | T90: Implied | V90: Edge
B91: Player | C91: Rec Yds | D91: Over | E91: Under | F91: Over | G91: Under | H91: Over | I91: Under | J91: Over | K91: Under | N91: Player | O91: Rec | P91: Over | Q91: Under | R91: Over | S91: Under | T91: Over | U91: Under | V91: Over | W91: Under
B92: Demarcus Robinson | C92: 20.5 | D92: =1-E92 -> 0.4172 | E92: =VLOOKUP(C92,Data!$B$4:$BM$1430,37,0) -> 0.5828 | F92: -112 | G92: -112 | H92: =IF(F92<0,-F92/(-F92+100),100/(F92+100)) -> 0.52830189 | I92: =IF(G92<0,-G92/(-G92+100),100/(G92+100)) -> 0.52830189 | J92: =D92-H92 -> -0.11110189 | K92: =E92-I92 -> 0.054498113 | N92: Kyle Juszczyk | O92: 1.5 | P92: =1-Q92 -> 0.35177935 | Q92: =VLOOKUP(O92,Data!$B$4:$BM$1430,41,0) -> 0.64822065 | R92: 130 | S92: -180 | T92: =IF(R92<0,-R92/(-R92+100),100/(R92+100)) -> 0.43478261 | U92: =IF(S92<0,-S92/(-S92+100),100/(S92+100)) -> 0.64285714 | V92: =P92-T92 -> -0.083003257 | W92: =Q92-U92 -> 0.0053635053
C94: Prop | D94: Sean % | F94: Book | H94: Implied | J94: Edge | O94: Prop | P94: Sean % | R94: Book | T94: Implied | V94: Edge
B95: Player | C95: Rec | D95: Over | E95: Under | F95: Over | G95: Under | H95: Over | I95: Under | J95: Over | K95: Under | N95: Player | O95: Rec Yds | P95: Over | Q95: Under | R95: Over | S95: Under | T95: Over | U95: Under | V95: Over | W95: Under
B96: Mecole Hardman | C96: 1.5 | D96: =1-E96 -> 0.47506905 | E96: =VLOOKUP(C96,Data!$B$4:$BM$1430,43,0) -> 0.52493095 | F96: 102 | G96: -130 | H96: =IF(F96<0,-F96/(-F96+100),100/(F96+100)) -> 0.4950495 | I96: =IF(G96<0,-G96/(-G96+100),100/(G96+100)) -> 0.56521739 | J96: =D96-H96 -> -0.019980452 | K96: =E96-I96 -> -0.040286445 | N96: Kyle Juszczyk | O96: 12.5 | P96: =1-Q96 -> 0.468 | Q96: =VLOOKUP(O96,Data!$B$4:$BM$1430,42,0) -> 0.532 | R96: -112 | S96: -112 | T96: =IF(R96<0,-R96/(-R96+100),100/(R96+100)) -> 0.52830189 | U96: =IF(S96<0,-S96/(-S96+100),100/(S96+100)) -> 0.52830189 | V96: =P96-T96 -> -0.060301887 | W96: =Q96-U96 -> 0.0036981132
C98: Prop | D98: Sean % | F98: Book | H98: Implied | J98: Edge
B99: Player | C99: Rec Yds | D99: Over | E99: Under | F99: Over | G99: Under | H99: Over | I99: Under | J99: Over | K99: Under
B100: Mecole Hardman | C100: 21.5 | D100: =1-E100 -> 0.4318 | E100: =VLOOKUP(C100,Data!$B$4:$BM$1430,44,0) -> 0.5682 | F100: -112 | G100: -112 | H100: =IF(F100<0,-F100/(-F100+100),100/(F100+100)) -> 0.52830189 | I100: =IF(G100<0,-G100/(-G100+100),100/(G100+100)) -> 0.52830189 | J100: =D100-H100 -> -0.096501887 | K100: =E100-I100 -> 0.039898113
C102: Prop | D102: Sean % | F102: Book | H102: Implied | J102: Edge
B103: Player | C103: Rec Yds | D103: Over | E103: Under | F103: Over | G103: Under | H103: Over | I103: Under | J103: Over | K103: Under
B104: Blake Bell | C104: 7.5 | D104: =1-E104 -> 0.499 | E104: =VLOOKUP(C104,Data!$B$4:$BM$1430,46,0) -> 0.501 | F104: -112 | G104: -112 | H104: =IF(F104<0,-F104/(-F104+100),100/(F104+100)) -> 0.52830189 | I104: =IF(G104<0,-G104/(-G104+100),100/(G104+100)) -> 0.52830189 | J104: =D104-H104 -> -0.029301887 | K104: =E104-I104 -> -0.027301887

Sheet Data
C2: 2 | D2: 3 | E2: 4 | F2: 5 | G2: 6 | H2: 7 | I2: 8 | J2: 9 | K2: 10 | L2: 11 | M2: 12 | N2: 13 | O2: 14 | P2: 15 | Q2: 16 | R2: 17 | S2: 18 | T2: 19 | U2: 20 | V2: 21 | W2: 22 | X2: 23 | Y2: 24 | Z2: 25 | AA2: 26 | AB2: 27 | AC2: 28 | AD2: 29 | AE2: 30 | AF2: 31 | AG2: 32 | AH2: 33 | AI2: 34 | AJ2: 35 | AK2: 36 | AL2: 37 | AM2: 38 | AN2: 39 | AO2: 40 | AP2: 41 | AQ2: 42 | AR2: 43 | AS2: 44 | AT2: 45 | AU2: 46 | AV2: 47 | AW2: 48 | AX2: 49 | AY2: 50 | AZ2: 51 | BA2: 52 | BB2: 53 | BC2: 54 | BD2: 55 | BE2: 56 | BF2: 57 | BG2: 58 | BH2: 59 | BI2: 60 | BJ2: 61 | BK2: 62 | BL2: 63 | BM2: 64 | BN2: 65 | BO2: 66 | BP2: 67 | BQ2: 68 | BR2: 69 | BS2: 70 | BT2: 71 | BU2: 72 | BV2: 73 | BW2: 74 | BX2: 75 | BY2: 76 | BZ2: 77 | CA2: 78 | CB2: 79 | CC2: 80 | CD2: 81 | CE2: 82 | CF2: 83 | CG2: 84 | CH2: 85 | CI2: 86 | CJ2: 87 | CK2: 88 | CL2: 89 | CM2: 90 | CN2: 91 | CO2: 92 | CP2: 93 | CQ2: 94 | CR2: 95 | CS2: 96 | CT2: 97 | CU2: 98 | CV2: 99 | CW2: 100 | CX2: 101 | CY2: 102 | CZ2: 103 | DA2: 104 | DB2: 105 | DC2: 106 | DD2: 107 | DE2: 108 | DF2: 109 | DG2: 110 | DH2: 111 | DI2: 112 | DJ2: 113 | DK2: 114 | DL2: 115 | DM2: 116
B3: Yards | C3: % | D3: % | E3: % | F3: % | G3: % | H3: % | I3: % | J3: % | K3: % | L3: % | M3: % | N3: % | O3: % | P3: % | Q3: % | R3: % | S3: % | T3: % | U3: % | V3: % | W3: % | X3: % | Y3: % | Z3: % | AA3: % | AB3: % | AC3: % | AD3: % | AE3: % | AF3: % | AG3: % | AH3: % | AI3: % | AJ3: % | AK3: % | AL3: % | AM3: % | AN3: % | AO3: % | AP3: % | AQ3: % | AR3: % | AS3: % | AT3: % | AU3: % | AV3: % | AW3: % | AX3: % | AY3: % | AZ3: % | BA3: % | BB3: % | BC3: % | BD3: % | BE3: % | BF3: % | BG3: % | BH3: % | BI3: % | BJ3: % | BK3: % | BL3: % | BM3: % | BN3: % | BO3: % | BP3: % | BQ3: % | BR3: % | BS3: % | BT3: % | BU3: % | BV3: % | BW3: % | BX3: % | BY3: % | BZ3: % | CA3: % | CB3: % | CC3: % | CD3: % | CE3: % | CF3: % | CG3: % | CH3: % | CI3: % | CJ3: % | CK3: % | CL3: % | CM3: % | CN3: % | CO3: % | CP3: % | CQ3: % | CR3: % | CS3: % | CT3: % | CU3: % | CV3: % | CW3: % | CX3: % | CY3: % | CZ3: % | DA3: % | DB3: % | DC3: % | DD3: % | DE3: % | DF3: % | DG3: % | DH3: % | DI3: % | DJ3: % | DK3: % | DL3: % | DM3: %
B4: -3.5 | C4: 0 | D4: 0 | E4: 0.0002 | F4: 0.0294 | G4: 0 | H4: 0.0004 | I4: 0.0004 | J4: 0 | K4: 0 | L4: 0 | M4: 0 | N4: 0 | O4: 0.0004 | P4: 0 | Q4: 0.002 | R4: 0 | S4: 0 | T4: 0 | U4: 0 | V4: 0 | W4: 0 | X4: 0 | Y4: 0 | Z4: 0 | AA4: 0 | AB4: 0 | AC4: 0 | AD4: 0 | AE4: 0 | AF4: 0 | AG4: 0 | AH4: 0 | AI4: 0 | AJ4: 0 | AK4: 0 | AL4: 0.0018 | AN4: 0.0018 | AQ4: 0.0012 | AS4: 0 | AT4: 0 | AU4: 0.005 | AV4: 0 | AX4: 0.0094 | AY4: 0 | BA4: 0
B5: -2.5 | C5: 0 | D5: 0 | E5: 0 | F5: 0.0424 | G5: 0 | H5: 0.0004 | I5: 0.0004 | J5: 0 | K5: 0 | L5: 0 | M5: 0 | N5: 0 | O5: 0.0032 | P5: 0.0004 | Q5: 0.005 | R5: 0 | S5: 0 | T5: 0 | U5: 0 | V5: 0 | W5: 0 | X5: 0 | Y5: 0 | Z5: 0 | AA5: 0 | AB5: 0 | AC5: 0.0002 | AD5: 0 | AE5: 0 | AF5: 0 | AG5: 0 | AH5: 0 | AI5: 0 | AJ5: 0.0002 | AK5: 0 | AL5: 0.0038 | AN5: 0.0036 | AQ5: 0.004 | AS5: 0.0024 | AT5: 0 | AU5: 0.0052 | AV5: 0 | AX5: 0.0136 | AY5: 0 | BA5: 0
B6: -1.5 | C6: 0 | D6: 0 | E6: 0 | F6: 0.0624 | G6: 0 | H6: 0.0004 | I6: 0.0004 | J6: 0 | K6: 0 | L6: 0 | M6: 0 | N6: 0 | O6: 0.0142 | P6: 0.0032 | Q6: 0.0074 | R6: 0 | S6: 0 | T6: 0 | U6: 0 | V6: 0 | W6: 0.001 | X6: 0 | Y6: 0 | Z6: 0.0006 | AA6: 0 | AB6: 0 | AC6: 0.0014 | AD6: 0 | AE6: 0 | AF6: 0 | AG6: 0 | AH6: 0 | AI6: 0 | AJ6: 0.0002 | AK6: 0 | AL6: 0.004 | AN6: 0.0042 | AQ6: 0.0044 | AS6: 0.005 | AT6: 0 | AU6: 0.0052 | AV6: 0 | AX6: 0.038 | AY6: 0 | BA6: 0
B7: -0.5 | C7: 0 | D7: 0 | E7: 0.0002 | F7: 0.1086 | G7: 0 | H7: 0.0006 | I7: 0.0004 | J7: 0 | K7: 0 | L7: 0 | M7: 0 | N7: 0 | O7: 0.0468 | P7: 0.0078 | Q7: 0.0104 | R7: 0 | S7: 0 | T7: 0 | U7: 0 | V7: 0 | W7: 0.0014 | X7: 0.001 | Y7: 0 | Z7: 0.001 | AA7: 0.001 | AB7: 0 | AC7: 0.002 | AD7: 0.001 | AE7: 0 | AF7: 0.001 | AG7: 0 | AH7: 0 | AI7: 0.001 | AJ7: 0.0004 | AK7: 0 | AL7: 0.0044 | AN7: 0.0042 | AQ7: 0.0048 | AS7: 0.008 | AT7: 0 | AU7: 0.0054 | AV7: 0 | AX7: 0.0878 | AY7: 0 | BA7: 0
B8: 0.5 | C8: 0 | D8: 0 | E8: 0.00020083153 | F8: 0.22 | G8: 0 | H8: 0.0008 | I8: 2.5634692e-16 | J8: 1.263147e-13 | K8: 2.2897348e-11 | L8: 4.1506537e-09 | M8: 0.18268352 | N8: 0.098273586 | O8: 0.1014 | P8: 0.0274 | Q8: 0.0338 | R8: 0.021279736 | S8: 0.0276 | T8: 0.0066 | U8: 0.0049915939 | V8: 0.0056 | W8: 0.025 | X8: 0.022148179 | Y8: 0.0236 | Z8: 0.0166 | AA8: 0.013842662 | AB8: 0.015 | AC8: 0.0322 | AD8: 0.029896914 | AE8: 0.0368 | AF8: 0.0023815589 | AG8: 0.002 | AH8: 0.0034 | AI8: 0.0024540882 | AJ8: 0.004 | AK8: 0.0038 | AL8: 0.1914 | AM8: 0.19592957 | AN8: 0.1452 | AO8: 0.13133552 | AP8: 0.28938422 | AQ8: 0.2938 | AR8: 0.20189652 | AS8: 0.2074 | AT8: 0.0018 | AU8: 0.3408 | AV8: 0 | AW8: 1.0182604e-07 | AX8: 0.1906 | AY8: 0 | AZ8: 0.15567263 | BA8: 0.19
B9: 1.5 | C9: 0 | D9: 0 | E9: 0.00021247293 | F9: 0.3314 | G9: 0 | H9: 0.0008 | I9: 9.4592013e-15 | J9: 3.8778612e-12 | K9: 5.8388239e-10 | L9: 8.425827e-08 | M9: 0.49324551 | N9: 0.3262683 | O9: 0.2844 | P9: 0.0362 | Q9: 0.041 | R9: 0.10320672 | S9: 0.0336 | T9: 0.0068 | U9: 0.031447042 | V9: 0.0056 | W9: 0.027 | X9: 0.10653274 | Y9: 0.024 | Z9: 0.0182 | AA9: 0.073089256 | AB9: 0.016 | AC9: 0.0344 | AD9: 0.13483508 | AE9: 0.0376 | AF9: 0.016766175 | AG9: 0.0026 | AH9: 0.0044 | AI9: 0.017203158 | AJ9: 0.0042 | AK9: 0.0042 | AL9: 0.1964 | AM9: 0.51529478 | AN9: 0.1512 | AO9: 0.39794663 | AP9: 0.64822065 | AQ9: 0.3032 | AR9: 0.52493095 | AS9: 0.2114 | AT9: 0.0032 | AU9: 0.377 | AV9: 0 | AW9: 1.7412252e-06 | AX9: 0.3174 | AY9: 0 | AZ9: 0.44522372 | BA9: 0.2034
B10: 2.5 | C10: 0 | D10: 0 | E10: 0.00029396275 | F10: 0.4654 | G10: 0 | H10: 0.001 | I10: 1.7465044e-13 | J10: 5.9588327e-11 | K10: 7.4559491e-09 | L10: 8.5729677e-07 | M10: 0.75722321 | N10: 0.59074218 | O10: 0.3736 | P10: 0.0514 | Q10: 0.0494 | R10: 0.26091617 | S10: 0.0456 | T10: 0.008 | U10: 0.10155398 | V10: 0.006 | W10: 0.0304 | X10: 0.26728533 | Y10: 0.0294 | Z10: 0.02 | AA10: 0.19987697 | AB10: 0.021 | AC10: 0.0404 | AD10: 0.31900157 | AE10: 0.0434 | AF10: 0.060207715 | AG10: 0.003 | AH10: 0.0048 | AI10: 0.061524113 | AJ10: 0.0044 | AK10: 0.0046 | AL10: 0.2036 | AM10: 0.77557742 | AN10: 0.1586 | AO10: 0.6685569 | AP10: 0.87069923 | AQ10: 0.3126 | AR10: 0.78335849 | AS10: 0.2336 | AT10: 0.0048 | AU10: 0.381 | AV10: 0 | AW10: 1.4938389e-05 | AX10: 0.4388 | AY10: 0 | AZ10: 0.71450624 | BA10: 0.2194
B11: 3.5 | C11: 0 | D11: 0 | E11: 0.00067424855 | F11: 0.586 | G11: 0.0002 | H11: 0.0016 | I11: 2.1514389e-12 | J11: 6.1112194e-10 | K11: 6.3577827e-08 | L11: 5.8305111e-06 | M11: 0.90681057 | N11: 0.79526864 | O11: 0.479 | P11: 0.0606 | Q11: 0.0612 | R11: 0.46330996 | S11: 0.0612 | T11: 0.0096 | U11: 0.22540957 | V11: 0.008 | W11: 0.0342 | X11: 0.47144112 | Y11: 0.0336 | Z11: 0.0214 | AA11: 0.38076077 | AB11: 0.0226 | AC11: 0.0438 | AD11: 0.53447636 | AE11: 0.0484 | AF11: 0.14767001 | AG11: 0.0032 | AH11: 0.0054 | AI11: 0.15031376 | AJ11: 0.005 | AK11: 0.005 | AL11: 0.2106 | AM11: 0.91699766 | AN11: 0.1636 | AO11: 0.85166986 | AP11: 0.96265705 | AQ11: 0.3192 | AR11: 0.92118651 | AS11: 0.2396 | AT11: 0.006 | AU11: 0.3862 | AV11: 0 | AW11: 8.5763166e-05 | AX11: 0.5696 | AY11: 0.0006 | AZ11: 0.8814614 | BA11: 0.2538
B12: 4.5 | C12: 0 | D12: 0 | E12: 0.0020052488 | F12: 0.674 | G12: 0.002 | H12: 0.0026 | I12: 1.9893115e-11 | J12: 4.706259e-09 | K12: 4.0732433e-07 | L12: 2.982627e-05 | M12: 0.97038519 | N12: 0.91389399 | O12: 0.5564 | P12: 0.0712 | Q12: 0.073 | R12: 0.65811398 | S12: 0.0782 | T12: 0.0106 | U12: 0.38951822 | V12: 0.0098 | W12: 0.0412 | X12: 0.66589951 | Y12: 0.0418 | Z12: 0.0262 | AA12: 0.57430643 | AB12: 0.0286 | AC12: 0.0522 | AD12: 0.72355549 | AE12: 0.0614 | AF12: 0.27973809 | AG12: 0.0048 | AH12: 0.008 | AI12: 0.28372021 | AJ12: 0.0066 | AK12: 0.007 | AL12: 0.229 | AM12: 0.9746264 | AN12: 0.1832 | AO12: 0.94459968 | AP12: 0.99116397 | AQ12: 0.3426 | AR12: 0.97631772 | AS12: 0.256 | AT12: 0.0084 | AU12: 0.408 | AV12: 0 | AW12: 0.0003708329 | AX12: 0.662 | AY12: 0.0034 | AZ12: 0.95909555 | BA12: 0.2846
B13: 5.5 | C13: 0 | D13: 0 | E13: 0.0057320497 | F13: 0.7642 | G13: 0.01 | H13: 0.0034 | I13: 1.4727835e-10 | J13: 2.9031373e-08 | K13: 2.0916822e-06 | L13: 0.0001224499 | M13: 0.99200057 | N13: 0.96893615 | O13: 0.6256 | P13: 0.0874 | Q13: 0.0868 | R13: 0.80811308 | S13: 0.1036 | T13: 0.0116 | U13: 0.56347339 | V13: 0.0132 | W13: 0.0464 | X13: 0.8140768 | Y13: 0.0504 | Z13: 0.0312 | AA13: 0.73998152 | AB13: 0.0394 | AC13: 0.0622 | AD13: 0.85628904 | AE13: 0.078 | AF13: 0.43927632 | AG13: 0.0056 | AH13: 0.01 | AI13: 0.44407475 | AJ13: 0.0074 | AK13: 0.009 | AL13: 0.2468 | AM13: 0.99341338 | AN13: 0.203 | AO13: 0.98232919 | AP13: 0.99823369 | AQ13: 0.365 | AR13: 0.99395971 | AS13: 0.2698 | AT13: 0.0106 | AU13: 0.4438 | AV13: 0 | AW13: 0.0012887574 | AX13: 0.7344 | AY13: 0.0134 | AZ13: 0.98797545 | BA13: 0.378
B14: 6.5 | C14: 0 | D14: 0 | E14: 0.014427918 | F14: 0.8116 | G14: 0.0388 | H14: 0.0042 | I14: 9.0946668e-10 | J14: 1.4944069e-07 | K14: 8.9694768e-06 | L14: 0.00042038924 | M14: 0.99812492 | N14: 0.99021912 | O14: 0.6708 | P14: 0.1034 | Q14: 0.1046 | R14: 0.9043625 | S14: 0.1574 | T14: 0.0148 | U14: 0.7171338 | V14: 0.018 | W14: 0.0522 | X14: 0.90816938 | Y14: 0.0598 | Z14: 0.0346 | AA14: 0.85816309 | AB14: 0.0478 | AC14: 0.0696 | AD14: 0.93393817 | AE14: 0.086 | AF14: 0.59987814 | AG14: 0.0068 | AH14: 0.0134 | AI14: 0.60469656 | AJ14: 0.0086 | AK14: 0.0138 | AL14: 0.2714 | AM14: 0.99851717 | AN14: 0.2212 | AO14: 0.99509434 | AP14: 0.99969477 | AQ14: 0.3902 | AR14: 0.99866424 | AS14: 0.289 | AT14: 0.0124 | AU14: 0.47 | AV14: 0 | AW14: 0.0037518549 | AX14: 0.7848 | AY14: 0.0294 | AZ14: 0.99692822 | BA14: 0.4188
B15: 7.5 | C15: 0 | D15: 0 | E15: 0.031819656 | F15: 0.85 | G15: 0.0794 | H15: 0.0052 | I15: 4.818404e-09 | J15: 6.6032021e-07 | K15: 3.3041758e-05 | L15: 0.0012418506 | M15: 0.99961227 | N15: 0.9972729 | O15: 0.7088 | P15: 0.1234 | Q15: 0.122 | R15: 0.95729968 | S15: 0.2158 | T15: 0.0166 | U15: 0.83347667 | V15: 0.0242 | W15: 0.0584 | X15: 0.95938263 | Y15: 0.0756 | Z15: 0.0396 | AA15: 0.93042267 | AB15: 0.0582 | AC15: 0.077 | AD15: 0.97287366 | AE15: 0.1012 | AF15: 0.73845457 | AG15: 0.0074 | AH15: 0.0208 | AI15: 0.74260185 | AJ15: 0.0106 | AK15: 0.02 | AL15: 0.2978 | AM15: 0.99970562 | AN15: 0.2432 | AO15: 0.99879623 | AP15: 0.99995358 | AQ15: 0.4136 | AR15: 0.99973956 | AS15: 0.3284 | AT15: 0.0148 | AU15: 0.501 | AV15: 0 | AW15: 0.0094169791 | AX15: 0.8112 | AY15: 0.0464 | AZ15: 0.9993071 | BA15: 0.5034
B16: 8.5 | C16: 0 | D16: 0 | E16: 0.062255196 | F16: 0.8878 | G16: 0.127 | H16: 0.0064 | I16: 2.235976e-08 | J16: 2.5569604e-06 | K16: 0.00010676312 | L16: 0.003223626 | M16: 0.99992833 | N16: 0.9993185 | O16: 0.7602 | P16: 0.1454 | Q16: 0.1384 | R16: 0.9827757 | S16: 0.276 | T16: 0.018 | U16: 0.91055383 | V16: 0.0314 | W16: 0.0676 | X16: 0.98377294 | Y16: 0.101 | Z16: 0.0456 | AA16: 0.96908155 | AB16: 0.0786 | AC16: 0.0868 | AD16: 0.9899566 | AE16: 0.1294 | AF16: 0.84307977 | AG16: 0.0084 | AH16: 0.0272 | AI16: 0.8462032 | AJ16: 0.0126 | AK16: 0.0298 | AL16: 0.321 | AM16: 0.99994777 | AN16: 0.263 | AO16: 0.99973559 | AP16: 0.9999937 | AQ16: 0.438 | AR16: 0.99995462 | AS16: 0.3508 | AT16: 0.0162 | AU16: 0.5246 | AV16: 0.0006 | AW16: 0.020818042 | AX16: 0.852 | AY16: 0.0764 | AZ16: 0.99986019 | BA16: 0.5276
B17: 9.5 | C17: 0 | D17: 0 | E17: 0.10959937 | F17: 0.9156 | G17: 0.1966 | H17: 0.0078 | I17: 9.233028e-08 | J17: 8.8158732e-06 | K17: 0.00030744905 | L17: 0.0074734334 | M17: 0.99998803 | N17: 0.99984581 | O17: 0.7954 | P17: 0.1676 | Q17: 0.1598 | R17: 0.99367377 | S17: 0.356 | T17: 0.019 | U17: 0.95594371 | V17: 0.038 | W17: 0.0752 | X17: 0.99409817 | Y17: 0.1212 | Z17: 0.0518 | AA17: 0.987466 | AB17: 0.0988 | AC17: 0.0964 | AD17: 0.99661895 | AE17: 0.1514 | AF17: 0.91329491 | AG17: 0.0106 | AH17: 0.044 | AI17: 0.91538588 | AJ17: 0.0142 | AK17: 0.0472 | AL17: 0.3494 | AM17: 0.99999163 | AN17: 0.2864 | AO17: 0.99994746 | AP17: 0.99999923 | AQ17: 0.4688 | AR17: 0.99999286 | AS17: 0.3666 | AT17: 0.0174 | AU17: 0.5666 | AV17: 0.001 | AW17: 0.041213276 | AX17: 0.872 | AY17: 0.1164 | AZ17: 0.9999745 | BA17: 0.606
B18: 10.5 | C18: 0 | D18: 0 | E18: 0.17588121 | F18: 0.9268 | G18: 0.2962 | H18: 0.011 | I18: 3.4352445e-07 | J18: 2.7404844e-05 | K18: 0.00079912957 | L18: 0.015675562 | M18: 0.99999818 | N18: 0.99996815 | O18: 0.8328 | P18: 0.1858 | Q18: 0.1798 | R18: 0.99786953 | S18: 0.3986 | T18: 0.0224 | U18: 0.98000034 | V18: 0.0482 | W18: 0.0804 | X18: 0.99803208 | Y18: 0.1338 | Z18: 0.058 | AA18: 0.99533454 | AB18: 0.1112 | AC18: 0.1052 | AD18: 0.99895744 | AE18: 0.1692 | AF18: 0.95570485 | AG18: 0.0122 | AH18: 0.0562 | AI18: 0.95696467 | AJ18: 0.0162 | AK18: 0.0594 | AL18: 0.3688 | AM18: 0.99999878 | AN18: 0.305 | AO18: 0.99999047 | AP18: 0.99999991 | AQ18: 0.485 | AR18: 0.99999898 | AS18: 0.3826 | AT18: 0.02 | AU18: 0.6 | AV18: 0.0014 | AW18: 0.074049602 | AX18: 0.892 | AY18: 0.1584 | AZ18: 0.99999576 | BA18: 0.6342
B19: 11.5 | C19: 0 | D19: 0 | E19: 0.26023992 | F19: 0.936 | G19: 0.3476 | H19: 0.0136 | I19: 1.1633309e-06 | J19: 7.7595066e-05 | K19: 0.0018942362 | L19: 0.030066569 | M19: 0.99999974 | N19: 0.99999395 | O19: 0.8654 | P19: 0.2078 | Q19: 0.1958 | R19: 0.99933805 | S19: 0.4336 | T19: 0.0264 | U19: 0.99159127 | V19: 0.0656 | W19: 0.0922 | X19: 0.99939465 | Y19: 0.1708 | Z19: 0.0644 | AA19: 0.99839612 | AB19: 0.143 | AC19: 0.1172 | AD19: 0.99970363 | AE19: 0.212 | AF19: 0.97899177 | AG19: 0.0156 | AH19: 0.0766 | AI19: 0.97968181 | AJ19: 0.0186 | AK19: 0.0832 | AL19: 0.3926 | AM19: 0.99999984 | AN19: 0.325 | AO19: 0.99999841 | AP19: 0.99999999 | AQ19: 0.5094 | AR19: 0.99999986 | AS19: 0.405 | AT19: 0.022 | AU19: 0.6384 | AV19: 0.003 | AW19: 0.12211004 | AX19: 0.9076 | AY19: 0.2014 | AZ19: 0.99999935 | BA19: 0.6592
... B172: 164.5 | C172: 0.0272 | D172: 0.1302 | E172: 1.0002 | F172: 1 | G172: 1 | H172: 0.9972 | I172: 1 | J172: 1 | K172: 1 | L172: 1 | M172: 1 | N172: 1 | O172: 0.9998 | P172: 1 | Q172: 0.9942 | R172: 1 | S172: 1 | T172: 0.9644 | U172: 1 | V172: 1 | W172: 0.9952 | X172: 1 | Y172: 1 | Z172: 0.9918 | AA172: 1 | AB172: 1 | AC172: 0.9982 | AD172: 1 | AE172: 1 | AF172: 1 | AG172: 0.9742 | AH172: 1 | AI172: 1 | AJ172: 0.981 | AK172: 1 | AL172: 0.9972 | AM172: 1 | AN172: 0.9976 | AO172: 1 | AP172: 1 | AQ172: 0.9976 | AR172: 1 | AS172: 0.9992 | AT172: 0.729 | AU172: 1 | AV172: 0.9836 | AW172: 1 | AX172: 1 | AY172: 1.0014 | AZ172: 1 | BA172: 0.9992
B173: 165.5 | C173: 0.029 | D173: 0.1356 | E173: 1.0002 | F173: 1 | G173: 1 | H173: 0.9978 | I173: 1.0004 | O173: 0.9998 | P173: 1 | Q173: 0.9942 | S173: 1 | T173: 0.9664 | V173: 1 | W173: 0.9956 | Y173: 1 | Z173: 0.9924 | AB173: 1 | AC173: 0.9984 | AE173: 1 | AG173: 0.975 | AH173: 1 | AJ173: 0.9816 | AK173: 1 | AL173: 0.9972 | AN173: 0.9976 | AQ173: 0.9976 | AS173: 0.9996 | AT173: 0.733 | AU173: 1 | AV173: 0.9842 | AX173: 1 | AY173: 1.0014 | BA173: 0.9992
B174: 166.5 | C174: 0.0296 | D174: 0.1396 | E174: 1.0002 | F174: 1 | G174: 1 | H174: 0.9978 | I174: 1.0004 | O174: 0.9998 | P174: 1 | Q174: 0.9942 | S174: 1 | T174: 0.9676 | V174: 1 | W174: 0.9956 | Y174: 1 | Z174: 0.9924 | AB174: 1 | AC174: 0.9984 | AE174: 1 | AG174: 0.9754 | AH174: 1 | AJ174: 0.982 | AK174: 1 | AL174: 0.9972 | AN174: 0.9976 | AQ174: 0.9976 | AS174: 0.9996 | AT174: 0.7378 | AU174: 1 | AV174: 0.9854 | AX174: 1 | AY174: 1.0014 | BA174: 0.9992
B175: 167.5 | C175: 0.0312 | D175: 0.143 | E175: 1.0002 | F175: 1 | G175: 1 | H175: 0.998 | I175: 1.0006 | O175: 0.9998 | P175: 1 | Q175: 0.9942 | S175: 1 | T175: 0.9696 | V175: 1 | W175: 0.9956 | Y175: 1 | Z175: 0.9928 | AB175: 1 | AC175: 0.9984 | AE175: 1 | AG175: 0.9764 | AH175: 1 | AJ175: 0.9824 | AK175: 1 | AL175: 0.9972 | AN175: 0.9976 | AQ175: 0.9976 | AS175: 0.9996 | AT175: 0.7416 | AU175: 1 | AV175: 0.9856 | AX175: 1 | AY175: 1.0014 | BA175: 0.9992
B176: 168.5 | C176: 0.0328 | D176: 0.1466 | E176: 1.0002 | F176: 1 | G176: 1 | H176: 0.998 | I176: 1.0006 | O176: 0.9998 | P176: 1 | Q176: 0.9942 | S176: 1 | T176: 0.9714 | V176: 1 | W176: 0.9958 | Y176: 1 | Z176: 0.9932 | AB176: 1 | AC176: 0.9984 | AE176: 1 | AG176: 0.9774 | AH176: 1 | AJ176: 0.9828 | AK176: 1 | AL176: 0.9972 | AN176: 0.9976 | AQ176: 0.9976 | AS176: 0.9998 | AT176: 0.7448 | AU176: 1 | AV176: 0.9864 | AX176: 1 | AY176: 1.0014 | BA176: 0.9992
B177: 169.5 | C177: 0.0334 | D177: 0.1496 | E177: 1.0002 | F177: 1 | G177: 1 | H177: 0.998 | I177: 1.0006 | O177: 0.9998 | P177: 1 | Q177: 0.9942 | S177: 1 | T177: 0.9724 | V177: 1 | W177: 0.996 | Y177: 1 | Z177: 0.9936 | AB177: 1 | AC177: 0.9986 | AE177: 1 | AG177: 0.9786 | AH177: 1 | AJ177: 0.9844 | AK177: 1 | AL177: 0.9972 | AN177: 0.9976 | AQ177: 0.9976 | AS177: 0.9998 | AT177: 0.7474 | AU177: 1 | AV177: 0.9872 | AX177: 1 | AY177: 1.0014 | BA177: 0.9992
B178: 170.5 | C178: 0.0342 | D178: 0.1548 | E178: 1.0002 | F178: 1 | G178: 1 | H178: 0.998 | I178: 1.0006 | O178: 0.9998 | P178: 1 | Q178: 0.9942 | S178: 1 | T178: 0.9738 | V178: 1 | W178: 0.9964 | Y178: 1 | Z178: 0.9942 | AB178: 1 | AC178: 0.9986 | AE178: 1 | AG178: 0.9796 | AH178: 1 | AJ178: 0.9848 | AK178: 1 | AL178: 0.9972 | AN178: 0.9976 | AQ178: 0.9976 | AS178: 0.9998 | AT178: 0.7524 | AU178: 1 | AV178: 0.9874 | AX178: 1 | AY178: 1.0014 | BA178: 0.9992
B179: 171.5 | C179: 0.0352 | D179: 0.1586 | E179: 1.0002 | F179: 1 | G179: 1 | H179: 0.998 | I179: 1.0006 | O179: 0.9998 | P179: 1 | Q179: 0.9942 | S179: 1 | T179: 0.9754 | V179: 1 | W179: 0.9964 | Y179: 1 | Z179: 0.9946 | AB179: 1 | AC179: 0.9986 | AE179: 1 | AG179: 0.9808 | AH179: 1 | AJ179: 0.9862 | AK179: 1 | AL179: 0.9972 | AN179: 0.9976 | AQ179: 0.9976 | AS179: 0.9998 | AT179: 0.7548 | AU179: 1 | AV179: 0.9882 | AX179: 1 | AY179: 1.0014 | BA179: 0.9992
B180: 172.5 | C180: 0.0358 | D180: 0.1628 | E180: 1.0002 | F180: 1 | G180: 1 | H180: 0.998 | I180: 1.0006 | O180: 0.9998 | P180: 1 | Q180: 0.9942 | S180: 1 | T180: 0.9758 | V180: 1 | W180: 0.9968 | Y180: 1 | Z180: 0.9948 | AB180: 1 | AC180: 0.9986 | AE180: 1 | AG180: 0.9812 | AH180: 1 | AJ180: 0.9868 | AK180: 1 | AL180: 0.9972 | AN180: 0.9976 | AQ180: 0.9976 | AS180: 0.9998 | AT180: 0.76 | AU180: 1 | AV180: 0.9882 | AX180: 1 | AY180: 1.0014 | BA180: 0.9992
B181: 173.5 | C181: 0.0368 | D181: 0.1664 | E181: 1.0002 | F181: 1 | G181: 1 | H181: 0.9982 | I181: 1.0008 | O181: 0.9998 | P181: 1 | Q181: 0.9942 | S181: 1 | T181: 0.9774 | V181: 1 | W181: 0.9968 | Y181: 1 | Z181: 0.9952 | AB181: 1 | AC181: 0.9986 | AE181: 1 | AG181: 0.982 | AH181: 1 | AJ181: 0.9872 | AK181: 1 | AL181: 0.9972 | AN181: 0.9976 | AQ181: 0.9976 | AS181: 0.9998 | AT181: 0.7642 | AU181: 1 | AV181: 0.9888 | AX181: 1 | AY181: 1.0014 | BA181: 0.9992
B182: 174.5 | C182: 0.0384 | D182: 0.1712 | E182: 1.0002 | F182: 1 | G182: 1 | H182: 0.9982 | I182: 1.0008 | O182: 0.9998 | P182: 1 | Q182: 0.9942 | S182: 1 | T182: 0.9784 | V182: 1 | W182: 0.9968 | Y182: 1 | Z182: 0.9958 | AB182: 1 | AC182: 0.9988 | AE182: 1 | AG182: 0.9834 | AH182: 1 | AJ182: 0.988 | AK182: 1 | AL182: 0.9972 | AN182: 0.9976 | AQ182: 0.9976 | AS182: 0.9998 | AT182: 0.7674 | AU182: 1 | AV182: 0.9892 | AX182: 1 | AY182: 1.0014 | BA182: 0.9992
B183: 175.5 | C183: 0.0402 | D183: 0.1746 | E183: 1.0002 | F183: 1 | G183: 1 | H183: 0.9986 | I183: 1.0012 | O183: 0.9998 | P183: 1 | Q183: 0.9942 | S183: 1 | T183: 0.9794 | V183: 1 | W183: 0.997 | Y183: 1 | Z183: 0.9958 | AB183: 1 | AC183: 0.9988 | AE183: 1 | AG183: 0.9834 | AH183: 1 | AJ183: 0.988 | AK183: 1 | AL183: 0.9972 | AN183: 0.9976 | AQ183: 0.9976 | AS183: 0.9998 | AT183: 0.7694 | AU183: 1 | AV183: 0.9894 | AX183: 1 | AY183: 1.0014 | BA183: 0.9992
B184: 176.5 | C184: 0.0428 | D184: 0.1764 | E184: 1.0002 | F184: 1 | G184: 1 | H184: 0.9986 | I184: 1.0012 | O184: 0.9998 | P184: 1 | Q184: 0.9942 | S184: 1 | T184: 0.9796 | V184: 1 | W184: 0.9972 | Y184: 1 | Z184: 0.996 | AB184: 1 | AC184: 0.9992 | AE184: 1 | AG184: 0.9842 | AH184: 1 | AJ184: 0.9884 | AK184: 1 | AL184: 0.9972 | AN184: 0.9976 | AQ184: 0.9976 | AS184: 0.9998 | AT184: 0.774 | AU184: 1 | AV184: 0.99 | AX184: 1 | AY184: 1.0014 | BA184: 0.9992
... B431: 423.5 | C431: 0.889 | D431: 0.9902 | E431: 1.0002 | F431: 1 | G431: 1 | H431: 0.9998 | I431: 1.0024 | O431: 0.9998 | P431: 1 | Q431: 0.9942 | S431: 1 | T431: 1 | V431: 1 | W431: 1 | Y431: 1 | Z431: 1 | AB431: 1 | AC431: 1 | AE431: 1 | AG431: 0.9998 | AH431: 1 | AJ431: 1 | AK431: 1 | AL431: 0.9972 | AN431: 0.9976 | AQ431: 0.9976 | AS431: 1 | AT431: 0.999 | AU431: 1 | AV431: 1 | AX431: 1 | AY431: 1.0014 | BA431: 0.9992
B432: 424.5 | C432: 0.8908 | D432: 0.9904 | E432: 1.0002 | F432: 1 | G432: 1 | H432: 0.9998 | I432: 1.0024 | O432: 0.9998 | P432: 1 | AE432: 1 | AG432: 0.9998 | AH432: 1 | AJ432: 1 | AK432: 1 | AL432: 0.9972 | AN432: 0.9976 | AQ432: 0.9976 | AS432: 1 | AT432: 0.999 | AU432: 1 | AV432: 1 | AX432: 1 | AY432: 1.0014 | BA432: 0.9992
F433: 0.986 | P433: 1 | AG433: 0.9998 | AY433: 0
AG434: 0.9998 | AY434: 0
AG435: 0.9998 | AY435: 0
AG436: 0.9998 | AY436: 0
AY437: 0
AY438: 0
AY439: 0
AY440: 0
AY441: 0
AY442: 0
AY443: 0
AY444: 0
AY445: 0
AY446: 0
AY447: 0
AY448: 0
... AY476: 0
